BEGIN:VCALENDAR
VERSION:2.0
PRODID:https://www.kufer.de/kuferweb / DE
METHOD:PUBLISH
CALSCALE:GREGORIAN
X-WR-TIMEZONE:Europe/Berlin
BEGIN:VTIMEZONE
TZID:Europe/Berlin
X-LIC-LOCATION:Europe/Berlin
BEGIN:DAYLIGHT
TZOFFSETFROM:+0100
TZOFFSETTO:+0200
TZNAME:CEST
DTSTART:19700329T020000
RRULE:FREQ=YEARLY;INTERVAL=1;BYDAY=-1SU;BYMONTH=3
END:DAYLIGHT
BEGIN:STANDARD
TZOFFSETFROM:+0200
TZOFFSETTO:+0100
TZNAME:CET
DTSTART:19701025T030000
RRULE:FREQ=YEARLY;INTERVAL=1;BYDAY=-1SU;BYMONTH=10
END:STANDARD
END:VTIMEZONE
BEGIN:VEVENT
DTSTAMP:20260422T143348
DTSTART;TZID=Europe/Berlin:20260713T180000
DTEND;TZID=Europe/Berlin:20260713T200000
UID:26S1186020-20260713T180000@VHULM
SUMMARY:Spanisch A1 Deine ersten Schritte in die spanische Sprache &ndash; Crashkurs für Teilnehmer*innen ohne Vorkenntnisse (26S1186020) 
LOCATION:Ulm, EinsteinHaus, Seminarraum 2, Kornhausplatz 5, 89073 Ulm
END:VEVENT
BEGIN:VEVENT
DTSTAMP:20260422T143348
DTSTART;TZID=Europe/Berlin:20260716T180000
DTEND;TZID=Europe/Berlin:20260716T200000
UID:26S1186020-20260716T180000@VHULM
SUMMARY:Spanisch A1 Deine ersten Schritte in die spanische Sprache &ndash; Crashkurs für Teilnehmer*innen ohne Vorkenntnisse (26S1186020) 
LOCATION:Ulm, EinsteinHaus, Seminarraum 14, Kornhausplatz 5, 89073 Ulm
END:VEVENT
BEGIN:VEVENT
DTSTAMP:20260422T143348
DTSTART;TZID=Europe/Berlin:20260721T180000
DTEND;TZID=Europe/Berlin:20260721T200000
UID:26S1186020-20260721T180000@VHULM
SUMMARY:Spanisch A1 Deine ersten Schritte in die spanische Sprache &ndash; Crashkurs für Teilnehmer*innen ohne Vorkenntnisse (26S1186020) 
LOCATION:Ulm, EinsteinHaus, Seminarraum 14, Kornhausplatz 5, 89073 Ulm
END:VEVENT
BEGIN:VEVENT
DTSTAMP:20260422T143348
DTSTART;TZID=Europe/Berlin:20260723T180000
DTEND;TZID=Europe/Berlin:20260723T200000
UID:26S1186020-20260723T180000@VHULM
SUMMARY:Spanisch A1 Deine ersten Schritte in die spanische Sprache &ndash; Crashkurs für Teilnehmer*innen ohne Vorkenntnisse (26S1186020) 
LOCATION:Ulm, EinsteinHaus, Seminarraum 14, Kornhausplatz 5, 89073 Ulm
END:VEVENT
BEGIN:VEVENT
DTSTAMP:20260422T143348
DTSTART;TZID=Europe/Berlin:20260727T180000
DTEND;TZID=Europe/Berlin:20260727T200000
UID:26S1186020-20260727T180000@VHULM
SUMMARY:Spanisch A1 Deine ersten Schritte in die spanische Sprache &ndash; Crashkurs für Teilnehmer*innen ohne Vorkenntnisse (26S1186020) 
LOCATION:Ulm, EinsteinHaus, Seminarraum 14, Kornhausplatz 5, 89073 Ulm
END:VEVENT
BEGIN:VEVENT
DTSTAMP:20260422T143348
DTSTART;TZID=Europe/Berlin:20260730T180000
DTEND;TZID=Europe/Berlin:20260730T200000
UID:26S1186020-20260730T180000@VHULM
SUMMARY:Spanisch A1 Deine ersten Schritte in die spanische Sprache &ndash; Crashkurs für Teilnehmer*innen ohne Vorkenntnisse (26S1186020) 
LOCATION:Ulm, EinsteinHaus, Seminarraum 14, Kornhausplatz 5, 89073 Ulm
END:VEVENT
END:VCALENDAR