BEGIN:VCALENDAR
VERSION:2.0
PRODID:https://www.kufer.de/kuferweb / DE
METHOD:PUBLISH
CALSCALE:GREGORIAN
X-WR-TIMEZONE:Europe/Berlin
BEGIN:VTIMEZONE
TZID:Europe/Berlin
X-LIC-LOCATION:Europe/Berlin
BEGIN:DAYLIGHT
TZOFFSETFROM:+0100
TZOFFSETTO:+0200
TZNAME:CEST
DTSTART:19700329T020000
RRULE:FREQ=YEARLY;INTERVAL=1;BYDAY=-1SU;BYMONTH=3
END:DAYLIGHT
BEGIN:STANDARD
TZOFFSETFROM:+0200
TZOFFSETTO:+0100
TZNAME:CET
DTSTART:19701025T030000
RRULE:FREQ=YEARLY;INTERVAL=1;BYDAY=-1SU;BYMONTH=10
END:STANDARD
END:VTIMEZONE
BEGIN:VEVENT
DTSTAMP:20260419T175143
DTSTART;TZID=Europe/Berlin:20260630T093000
DTEND;TZID=Europe/Berlin:20260630T104500
UID:26S0614669-20260630T093000@VHULM
SUMMARY:Italienisch mit Muße A1/A2  Für Teilnehmer *innen mit guten Vorkenntnissen (26S0614669) 
LOCATION:Ulm, EinsteinHaus, Seminarraum 4, Kornhausplatz 5, 89073 Ulm
END:VEVENT
BEGIN:VEVENT
DTSTAMP:20260419T175143
DTSTART;TZID=Europe/Berlin:20260707T093000
DTEND;TZID=Europe/Berlin:20260707T104500
UID:26S0614669-20260707T093000@VHULM
SUMMARY:Italienisch mit Muße A1/A2  Für Teilnehmer *innen mit guten Vorkenntnissen (26S0614669) 
LOCATION:Ulm, EinsteinHaus, Seminarraum 4, Kornhausplatz 5, 89073 Ulm
END:VEVENT
BEGIN:VEVENT
DTSTAMP:20260419T175143
DTSTART;TZID=Europe/Berlin:20260714T093000
DTEND;TZID=Europe/Berlin:20260714T104500
UID:26S0614669-20260714T093000@VHULM
SUMMARY:Italienisch mit Muße A1/A2  Für Teilnehmer *innen mit guten Vorkenntnissen (26S0614669) 
LOCATION:Ulm, EinsteinHaus, Seminarraum 4, Kornhausplatz 5, 89073 Ulm
END:VEVENT
BEGIN:VEVENT
DTSTAMP:20260419T175143
DTSTART;TZID=Europe/Berlin:20260721T093000
DTEND;TZID=Europe/Berlin:20260721T104500
UID:26S0614669-20260721T093000@VHULM
SUMMARY:Italienisch mit Muße A1/A2  Für Teilnehmer *innen mit guten Vorkenntnissen (26S0614669) 
LOCATION:Ulm, EinsteinHaus, Seminarraum 4, Kornhausplatz 5, 89073 Ulm
END:VEVENT
BEGIN:VEVENT
DTSTAMP:20260419T175143
DTSTART;TZID=Europe/Berlin:20260728T093000
DTEND;TZID=Europe/Berlin:20260728T104500
UID:26S0614669-20260728T093000@VHULM
SUMMARY:Italienisch mit Muße A1/A2  Für Teilnehmer *innen mit guten Vorkenntnissen (26S0614669) 
LOCATION:Ulm, EinsteinHaus, Seminarraum 4, Kornhausplatz 5, 89073 Ulm
END:VEVENT
END:VCALENDAR