BEGIN:VCALENDAR
VERSION:2.0
PRODID:https://www.kufer.de/kuferweb / DE
METHOD:PUBLISH
CALSCALE:GREGORIAN
X-WR-TIMEZONE:Europe/Berlin
BEGIN:VTIMEZONE
TZID:Europe/Berlin
X-LIC-LOCATION:Europe/Berlin
BEGIN:DAYLIGHT
TZOFFSETFROM:+0100
TZOFFSETTO:+0200
TZNAME:CEST
DTSTART:19700329T020000
RRULE:FREQ=YEARLY;INTERVAL=1;BYDAY=-1SU;BYMONTH=3
END:DAYLIGHT
BEGIN:STANDARD
TZOFFSETFROM:+0200
TZOFFSETTO:+0100
TZNAME:CET
DTSTART:19701025T030000
RRULE:FREQ=YEARLY;INTERVAL=1;BYDAY=-1SU;BYMONTH=10
END:STANDARD
END:VTIMEZONE
BEGIN:VEVENT
DTSTAMP:20260423T013629
DTSTART;TZID=Europe/Berlin:20261102T190000
DTEND;TZID=Europe/Berlin:20261102T201500
UID:26H0930935-20261102T190000@VHULM
SUMMARY:Crash-Tanzkurs für Hochzeiten und andere »Notfälle« (26H0930935) 
LOCATION:Ulm, Tanzstudio Moldering, Bei der Pilzbuche 41
END:VEVENT
BEGIN:VEVENT
DTSTAMP:20260423T013629
DTSTART;TZID=Europe/Berlin:20261109T190000
DTEND;TZID=Europe/Berlin:20261109T201500
UID:26H0930935-20261109T190000@VHULM
SUMMARY:Crash-Tanzkurs für Hochzeiten und andere »Notfälle« (26H0930935) 
LOCATION:Ulm, Tanzstudio Moldering, Bei der Pilzbuche 41
END:VEVENT
END:VCALENDAR