BEGIN:VCALENDAR
VERSION:2.0
PRODID:https://www.kufer.de/kuferweb / DE
METHOD:PUBLISH
CALSCALE:GREGORIAN
X-WR-TIMEZONE:Europe/Berlin
BEGIN:VTIMEZONE
TZID:Europe/Berlin
X-LIC-LOCATION:Europe/Berlin
BEGIN:DAYLIGHT
TZOFFSETFROM:+0100
TZOFFSETTO:+0200
TZNAME:CEST
DTSTART:19700329T020000
RRULE:FREQ=YEARLY;INTERVAL=1;BYDAY=-1SU;BYMONTH=3
END:DAYLIGHT
BEGIN:STANDARD
TZOFFSETFROM:+0200
TZOFFSETTO:+0100
TZNAME:CET
DTSTART:19701025T030000
RRULE:FREQ=YEARLY;INTERVAL=1;BYDAY=-1SU;BYMONTH=10
END:STANDARD
END:VTIMEZONE
BEGIN:VEVENT
DTSTAMP:20260422T214934
DTSTART;TZID=Europe/Berlin:20260927T193500
DTEND;TZID=Europe/Berlin:20260927T210500
UID:26H0930912-20260927T193500@VHULM
SUMMARY:Tanzkreis für langjährige Tanzpaare Gruppe II (26H0930912) 
LOCATION:Ulm, vh Tanzstudio im Weststadtbad, Raum 1, Moltkestr. 30, 89077 Ulm
END:VEVENT
BEGIN:VEVENT
DTSTAMP:20260422T214934
DTSTART;TZID=Europe/Berlin:20261004T193500
DTEND;TZID=Europe/Berlin:20261004T210500
UID:26H0930912-20261004T193500@VHULM
SUMMARY:Tanzkreis für langjährige Tanzpaare Gruppe II (26H0930912) 
LOCATION:Ulm, vh Tanzstudio im Weststadtbad, Raum 1, Moltkestr. 30, 89077 Ulm
END:VEVENT
BEGIN:VEVENT
DTSTAMP:20260422T214934
DTSTART;TZID=Europe/Berlin:20261011T193500
DTEND;TZID=Europe/Berlin:20261011T210500
UID:26H0930912-20261011T193500@VHULM
SUMMARY:Tanzkreis für langjährige Tanzpaare Gruppe II (26H0930912) 
LOCATION:Ulm, vh Tanzstudio im Weststadtbad, Raum 1, Moltkestr. 30, 89077 Ulm
END:VEVENT
BEGIN:VEVENT
DTSTAMP:20260422T214934
DTSTART;TZID=Europe/Berlin:20261018T193500
DTEND;TZID=Europe/Berlin:20261018T210500
UID:26H0930912-20261018T193500@VHULM
SUMMARY:Tanzkreis für langjährige Tanzpaare Gruppe II (26H0930912) 
LOCATION:Ulm, vh Tanzstudio im Weststadtbad, Raum 1, Moltkestr. 30, 89077 Ulm
END:VEVENT
BEGIN:VEVENT
DTSTAMP:20260422T214934
DTSTART;TZID=Europe/Berlin:20261108T193500
DTEND;TZID=Europe/Berlin:20261108T210500
UID:26H0930912-20261108T193500@VHULM
SUMMARY:Tanzkreis für langjährige Tanzpaare Gruppe II (26H0930912) 
LOCATION:Ulm, vh Tanzstudio im Weststadtbad, Raum 1, Moltkestr. 30, 89077 Ulm
END:VEVENT
BEGIN:VEVENT
DTSTAMP:20260422T214934
DTSTART;TZID=Europe/Berlin:20261115T193500
DTEND;TZID=Europe/Berlin:20261115T210500
UID:26H0930912-20261115T193500@VHULM
SUMMARY:Tanzkreis für langjährige Tanzpaare Gruppe II (26H0930912) 
LOCATION:Ulm, vh Tanzstudio im Weststadtbad, Raum 1, Moltkestr. 30, 89077 Ulm
END:VEVENT
BEGIN:VEVENT
DTSTAMP:20260422T214934
DTSTART;TZID=Europe/Berlin:20261122T193500
DTEND;TZID=Europe/Berlin:20261122T210500
UID:26H0930912-20261122T193500@VHULM
SUMMARY:Tanzkreis für langjährige Tanzpaare Gruppe II (26H0930912) 
LOCATION:Ulm, vh Tanzstudio im Weststadtbad, Raum 1, Moltkestr. 30, 89077 Ulm
END:VEVENT
BEGIN:VEVENT
DTSTAMP:20260422T214934
DTSTART;TZID=Europe/Berlin:20261129T193500
DTEND;TZID=Europe/Berlin:20261129T210500
UID:26H0930912-20261129T193500@VHULM
SUMMARY:Tanzkreis für langjährige Tanzpaare Gruppe II (26H0930912) 
LOCATION:Ulm, vh Tanzstudio im Weststadtbad, Raum 1, Moltkestr. 30, 89077 Ulm
END:VEVENT
BEGIN:VEVENT
DTSTAMP:20260422T214934
DTSTART;TZID=Europe/Berlin:20261206T193500
DTEND;TZID=Europe/Berlin:20261206T210500
UID:26H0930912-20261206T193500@VHULM
SUMMARY:Tanzkreis für langjährige Tanzpaare Gruppe II (26H0930912) 
LOCATION:Ulm, vh Tanzstudio im Weststadtbad, Raum 1, Moltkestr. 30, 89077 Ulm
END:VEVENT
END:VCALENDAR