BEGIN:VCALENDAR
VERSION:2.0
PRODID:https://www.kufer.de/kuferweb / DE
METHOD:PUBLISH
CALSCALE:GREGORIAN
X-WR-TIMEZONE:Europe/Berlin
BEGIN:VTIMEZONE
TZID:Europe/Berlin
X-LIC-LOCATION:Europe/Berlin
BEGIN:DAYLIGHT
TZOFFSETFROM:+0100
TZOFFSETTO:+0200
TZNAME:CEST
DTSTART:19700329T020000
RRULE:FREQ=YEARLY;INTERVAL=1;BYDAY=-1SU;BYMONTH=3
END:DAYLIGHT
BEGIN:STANDARD
TZOFFSETFROM:+0200
TZOFFSETTO:+0100
TZNAME:CET
DTSTART:19701025T030000
RRULE:FREQ=YEARLY;INTERVAL=1;BYDAY=-1SU;BYMONTH=10
END:STANDARD
END:VTIMEZONE
BEGIN:VEVENT
DTSTAMP:20260422T202015
DTSTART;TZID=Europe/Berlin:20260924T201500
DTEND;TZID=Europe/Berlin:20260924T213000
UID:26H0930026-20260924T201500@VHULM
SUMMARY:Tanzkurs: Let´s Swing! - Vintage Solo Jazz Für Anfänger*innen bis leicht Fortgeschrittene (26H0930026) 
LOCATION:Ulm, vh Tanzstudio im Weststadtbad, Raum 1, Moltkestr. 30, 89077 Ulm
END:VEVENT
BEGIN:VEVENT
DTSTAMP:20260422T202015
DTSTART;TZID=Europe/Berlin:20261001T201500
DTEND;TZID=Europe/Berlin:20261001T213000
UID:26H0930026-20261001T201500@VHULM
SUMMARY:Tanzkurs: Let´s Swing! - Vintage Solo Jazz Für Anfänger*innen bis leicht Fortgeschrittene (26H0930026) 
LOCATION:Ulm, vh Tanzstudio im Weststadtbad, Raum 1, Moltkestr. 30, 89077 Ulm
END:VEVENT
BEGIN:VEVENT
DTSTAMP:20260422T202015
DTSTART;TZID=Europe/Berlin:20261008T201500
DTEND;TZID=Europe/Berlin:20261008T213000
UID:26H0930026-20261008T201500@VHULM
SUMMARY:Tanzkurs: Let´s Swing! - Vintage Solo Jazz Für Anfänger*innen bis leicht Fortgeschrittene (26H0930026) 
LOCATION:Ulm, vh Tanzstudio im Weststadtbad, Raum 1, Moltkestr. 30, 89077 Ulm
END:VEVENT
BEGIN:VEVENT
DTSTAMP:20260422T202015
DTSTART;TZID=Europe/Berlin:20261015T201500
DTEND;TZID=Europe/Berlin:20261015T213000
UID:26H0930026-20261015T201500@VHULM
SUMMARY:Tanzkurs: Let´s Swing! - Vintage Solo Jazz Für Anfänger*innen bis leicht Fortgeschrittene (26H0930026) 
LOCATION:Ulm, vh Tanzstudio im Weststadtbad, Raum 1, Moltkestr. 30, 89077 Ulm
END:VEVENT
BEGIN:VEVENT
DTSTAMP:20260422T202015
DTSTART;TZID=Europe/Berlin:20261022T201500
DTEND;TZID=Europe/Berlin:20261022T213000
UID:26H0930026-20261022T201500@VHULM
SUMMARY:Tanzkurs: Let´s Swing! - Vintage Solo Jazz Für Anfänger*innen bis leicht Fortgeschrittene (26H0930026) 
LOCATION:Ulm, vh Tanzstudio im Weststadtbad, Raum 1, Moltkestr. 30, 89077 Ulm
END:VEVENT
BEGIN:VEVENT
DTSTAMP:20260422T202015
DTSTART;TZID=Europe/Berlin:20261105T201500
DTEND;TZID=Europe/Berlin:20261105T213000
UID:26H0930026-20261105T201500@VHULM
SUMMARY:Tanzkurs: Let´s Swing! - Vintage Solo Jazz Für Anfänger*innen bis leicht Fortgeschrittene (26H0930026) 
LOCATION:Ulm, vh Tanzstudio im Weststadtbad, Raum 1, Moltkestr. 30, 89077 Ulm
END:VEVENT
BEGIN:VEVENT
DTSTAMP:20260422T202015
DTSTART;TZID=Europe/Berlin:20261112T201500
DTEND;TZID=Europe/Berlin:20261112T213000
UID:26H0930026-20261112T201500@VHULM
SUMMARY:Tanzkurs: Let´s Swing! - Vintage Solo Jazz Für Anfänger*innen bis leicht Fortgeschrittene (26H0930026) 
LOCATION:Ulm, vh Tanzstudio im Weststadtbad, Raum 1, Moltkestr. 30, 89077 Ulm
END:VEVENT
BEGIN:VEVENT
DTSTAMP:20260422T202015
DTSTART;TZID=Europe/Berlin:20261119T201500
DTEND;TZID=Europe/Berlin:20261119T213000
UID:26H0930026-20261119T201500@VHULM
SUMMARY:Tanzkurs: Let´s Swing! - Vintage Solo Jazz Für Anfänger*innen bis leicht Fortgeschrittene (26H0930026) 
LOCATION:Ulm, vh Tanzstudio im Weststadtbad, Raum 1, Moltkestr. 30, 89077 Ulm
END:VEVENT
BEGIN:VEVENT
DTSTAMP:20260422T202015
DTSTART;TZID=Europe/Berlin:20261126T201500
DTEND;TZID=Europe/Berlin:20261126T213000
UID:26H0930026-20261126T201500@VHULM
SUMMARY:Tanzkurs: Let´s Swing! - Vintage Solo Jazz Für Anfänger*innen bis leicht Fortgeschrittene (26H0930026) 
LOCATION:Ulm, vh Tanzstudio im Weststadtbad, Raum 1, Moltkestr. 30, 89077 Ulm
END:VEVENT
BEGIN:VEVENT
DTSTAMP:20260422T202015
DTSTART;TZID=Europe/Berlin:20261203T201500
DTEND;TZID=Europe/Berlin:20261203T213000
UID:26H0930026-20261203T201500@VHULM
SUMMARY:Tanzkurs: Let´s Swing! - Vintage Solo Jazz Für Anfänger*innen bis leicht Fortgeschrittene (26H0930026) 
LOCATION:Ulm, vh Tanzstudio im Weststadtbad, Raum 1, Moltkestr. 30, 89077 Ulm
END:VEVENT
BEGIN:VEVENT
DTSTAMP:20260422T202015
DTSTART;TZID=Europe/Berlin:20261217T201500
DTEND;TZID=Europe/Berlin:20261217T213000
UID:26H0930026-20261217T201500@VHULM
SUMMARY:Tanzkurs: Let´s Swing! - Vintage Solo Jazz Für Anfänger*innen bis leicht Fortgeschrittene (26H0930026) 
LOCATION:Ulm, vh Tanzstudio im Weststadtbad, Raum 1, Moltkestr. 30, 89077 Ulm
END:VEVENT
BEGIN:VEVENT
DTSTAMP:20260422T202016
DTSTART;TZID=Europe/Berlin:20270114T201500
DTEND;TZID=Europe/Berlin:20270114T213000
UID:26H0930026-20270114T201500@VHULM
SUMMARY:Tanzkurs: Let´s Swing! - Vintage Solo Jazz Für Anfänger*innen bis leicht Fortgeschrittene (26H0930026) 
LOCATION:Ulm, vh Tanzstudio im Weststadtbad, Raum 1, Moltkestr. 30, 89077 Ulm
END:VEVENT
BEGIN:VEVENT
DTSTAMP:20260422T202016
DTSTART;TZID=Europe/Berlin:20270121T201500
DTEND;TZID=Europe/Berlin:20270121T213000
UID:26H0930026-20270121T201500@VHULM
SUMMARY:Tanzkurs: Let´s Swing! - Vintage Solo Jazz Für Anfänger*innen bis leicht Fortgeschrittene (26H0930026) 
LOCATION:Ulm, vh Tanzstudio im Weststadtbad, Raum 1, Moltkestr. 30, 89077 Ulm
END:VEVENT
BEGIN:VEVENT
DTSTAMP:20260422T202016
DTSTART;TZID=Europe/Berlin:20270128T201500
DTEND;TZID=Europe/Berlin:20270128T213000
UID:26H0930026-20270128T201500@VHULM
SUMMARY:Tanzkurs: Let´s Swing! - Vintage Solo Jazz Für Anfänger*innen bis leicht Fortgeschrittene (26H0930026) 
LOCATION:Ulm, vh Tanzstudio im Weststadtbad, Raum 1, Moltkestr. 30, 89077 Ulm
END:VEVENT
BEGIN:VEVENT
DTSTAMP:20260422T202016
DTSTART;TZID=Europe/Berlin:20270204T201500
DTEND;TZID=Europe/Berlin:20270204T213000
UID:26H0930026-20270204T201500@VHULM
SUMMARY:Tanzkurs: Let´s Swing! - Vintage Solo Jazz Für Anfänger*innen bis leicht Fortgeschrittene (26H0930026) 
LOCATION:Ulm, vh Tanzstudio im Weststadtbad, Raum 1, Moltkestr. 30, 89077 Ulm
END:VEVENT
BEGIN:VEVENT
DTSTAMP:20260422T202016
DTSTART;TZID=Europe/Berlin:20270218T201500
DTEND;TZID=Europe/Berlin:20270218T213000
UID:26H0930026-20270218T201500@VHULM
SUMMARY:Tanzkurs: Let´s Swing! - Vintage Solo Jazz Für Anfänger*innen bis leicht Fortgeschrittene (26H0930026) 
LOCATION:Ulm, vh Tanzstudio im Weststadtbad, Raum 1, Moltkestr. 30, 89077 Ulm
END:VEVENT
END:VCALENDAR