BEGIN:VCALENDAR
VERSION:2.0
PRODID:https://www.kufer.de/kuferweb / DE
METHOD:PUBLISH
CALSCALE:GREGORIAN
X-WR-TIMEZONE:Europe/Berlin
BEGIN:VTIMEZONE
TZID:Europe/Berlin
X-LIC-LOCATION:Europe/Berlin
BEGIN:DAYLIGHT
TZOFFSETFROM:+0100
TZOFFSETTO:+0200
TZNAME:CEST
DTSTART:19700329T020000
RRULE:FREQ=YEARLY;INTERVAL=1;BYDAY=-1SU;BYMONTH=3
END:DAYLIGHT
BEGIN:STANDARD
TZOFFSETFROM:+0200
TZOFFSETTO:+0100
TZNAME:CET
DTSTART:19701025T030000
RRULE:FREQ=YEARLY;INTERVAL=1;BYDAY=-1SU;BYMONTH=10
END:STANDARD
END:VTIMEZONE
BEGIN:VEVENT
DTSTAMP:20260422T221014
DTSTART;TZID=Europe/Berlin:20260925T201500
DTEND;TZID=Europe/Berlin:20260925T211500
UID:26H0612400-20260925T201500@VHULM
SUMMARY:Paartanz für Anfänger*innen Stufe 1 (26H0612400) 
LOCATION:Ulm, Tanzstudio Moldering, Bei der Pilzbuche 41
END:VEVENT
BEGIN:VEVENT
DTSTAMP:20260422T221014
DTSTART;TZID=Europe/Berlin:20261002T201500
DTEND;TZID=Europe/Berlin:20261002T211500
UID:26H0612400-20261002T201500@VHULM
SUMMARY:Paartanz für Anfänger*innen Stufe 1 (26H0612400) 
LOCATION:Ulm, Tanzstudio Moldering, Bei der Pilzbuche 41
END:VEVENT
BEGIN:VEVENT
DTSTAMP:20260422T221014
DTSTART;TZID=Europe/Berlin:20261009T201500
DTEND;TZID=Europe/Berlin:20261009T211500
UID:26H0612400-20261009T201500@VHULM
SUMMARY:Paartanz für Anfänger*innen Stufe 1 (26H0612400) 
LOCATION:Ulm, Tanzstudio Moldering, Bei der Pilzbuche 41
END:VEVENT
BEGIN:VEVENT
DTSTAMP:20260422T221014
DTSTART;TZID=Europe/Berlin:20261106T201500
DTEND;TZID=Europe/Berlin:20261106T211500
UID:26H0612400-20261106T201500@VHULM
SUMMARY:Paartanz für Anfänger*innen Stufe 1 (26H0612400) 
LOCATION:Ulm, Tanzstudio Moldering, Bei der Pilzbuche 41
END:VEVENT
BEGIN:VEVENT
DTSTAMP:20260422T221014
DTSTART;TZID=Europe/Berlin:20261113T201500
DTEND;TZID=Europe/Berlin:20261113T211500
UID:26H0612400-20261113T201500@VHULM
SUMMARY:Paartanz für Anfänger*innen Stufe 1 (26H0612400) 
LOCATION:Ulm, Tanzstudio Moldering, Bei der Pilzbuche 41
END:VEVENT
BEGIN:VEVENT
DTSTAMP:20260422T221014
DTSTART;TZID=Europe/Berlin:20261120T201500
DTEND;TZID=Europe/Berlin:20261120T211500
UID:26H0612400-20261120T201500@VHULM
SUMMARY:Paartanz für Anfänger*innen Stufe 1 (26H0612400) 
LOCATION:Ulm, Tanzstudio Moldering, Bei der Pilzbuche 41
END:VEVENT
BEGIN:VEVENT
DTSTAMP:20260422T221014
DTSTART;TZID=Europe/Berlin:20261127T201500
DTEND;TZID=Europe/Berlin:20261127T211500
UID:26H0612400-20261127T201500@VHULM
SUMMARY:Paartanz für Anfänger*innen Stufe 1 (26H0612400) 
LOCATION:Ulm, Tanzstudio Moldering, Bei der Pilzbuche 41
END:VEVENT
END:VCALENDAR