BEGIN:VCALENDAR
VERSION:2.0
PRODID:https://www.kufer.de/kuferweb / DE
METHOD:PUBLISH
CALSCALE:GREGORIAN
X-WR-TIMEZONE:Europe/Berlin
BEGIN:VTIMEZONE
TZID:Europe/Berlin
X-LIC-LOCATION:Europe/Berlin
BEGIN:DAYLIGHT
TZOFFSETFROM:+0100
TZOFFSETTO:+0200
TZNAME:CEST
DTSTART:19700329T020000
RRULE:FREQ=YEARLY;INTERVAL=1;BYDAY=-1SU;BYMONTH=3
END:DAYLIGHT
BEGIN:STANDARD
TZOFFSETFROM:+0200
TZOFFSETTO:+0100
TZNAME:CET
DTSTART:19701025T030000
RRULE:FREQ=YEARLY;INTERVAL=1;BYDAY=-1SU;BYMONTH=10
END:STANDARD
END:VTIMEZONE
BEGIN:VEVENT
DTSTAMP:20260422T201440
DTSTART;TZID=Europe/Berlin:20260917T190000
DTEND;TZID=Europe/Berlin:20260917T201500
UID:26H0400036-20260917T190000@VHULM
SUMMARY:Orientalischer Tanz &ndash; Ägyptischer Stil I Für Fortgeschrittene (26H0400036) 
LOCATION:Ulm, vh Tanzstudio im Weststadtbad, Raum 2, Moltkestr. 30, 89077 Ulm
END:VEVENT
BEGIN:VEVENT
DTSTAMP:20260422T201440
DTSTART;TZID=Europe/Berlin:20260924T190000
DTEND;TZID=Europe/Berlin:20260924T201500
UID:26H0400036-20260924T190000@VHULM
SUMMARY:Orientalischer Tanz &ndash; Ägyptischer Stil I Für Fortgeschrittene (26H0400036) 
LOCATION:Ulm, vh Tanzstudio im Weststadtbad, Raum 2, Moltkestr. 30, 89077 Ulm
END:VEVENT
BEGIN:VEVENT
DTSTAMP:20260422T201440
DTSTART;TZID=Europe/Berlin:20261001T190000
DTEND;TZID=Europe/Berlin:20261001T201500
UID:26H0400036-20261001T190000@VHULM
SUMMARY:Orientalischer Tanz &ndash; Ägyptischer Stil I Für Fortgeschrittene (26H0400036) 
LOCATION:Ulm, vh Tanzstudio im Weststadtbad, Raum 2, Moltkestr. 30, 89077 Ulm
END:VEVENT
BEGIN:VEVENT
DTSTAMP:20260422T201440
DTSTART;TZID=Europe/Berlin:20261008T190000
DTEND;TZID=Europe/Berlin:20261008T201500
UID:26H0400036-20261008T190000@VHULM
SUMMARY:Orientalischer Tanz &ndash; Ägyptischer Stil I Für Fortgeschrittene (26H0400036) 
LOCATION:Ulm, vh Tanzstudio im Weststadtbad, Raum 2, Moltkestr. 30, 89077 Ulm
END:VEVENT
BEGIN:VEVENT
DTSTAMP:20260422T201440
DTSTART;TZID=Europe/Berlin:20261015T190000
DTEND;TZID=Europe/Berlin:20261015T201500
UID:26H0400036-20261015T190000@VHULM
SUMMARY:Orientalischer Tanz &ndash; Ägyptischer Stil I Für Fortgeschrittene (26H0400036) 
LOCATION:Ulm, vh Tanzstudio im Weststadtbad, Raum 2, Moltkestr. 30, 89077 Ulm
END:VEVENT
BEGIN:VEVENT
DTSTAMP:20260422T201440
DTSTART;TZID=Europe/Berlin:20261022T190000
DTEND;TZID=Europe/Berlin:20261022T201500
UID:26H0400036-20261022T190000@VHULM
SUMMARY:Orientalischer Tanz &ndash; Ägyptischer Stil I Für Fortgeschrittene (26H0400036) 
LOCATION:Ulm, vh Tanzstudio im Weststadtbad, Raum 2, Moltkestr. 30, 89077 Ulm
END:VEVENT
BEGIN:VEVENT
DTSTAMP:20260422T201440
DTSTART;TZID=Europe/Berlin:20261105T190000
DTEND;TZID=Europe/Berlin:20261105T201500
UID:26H0400036-20261105T190000@VHULM
SUMMARY:Orientalischer Tanz &ndash; Ägyptischer Stil I Für Fortgeschrittene (26H0400036) 
LOCATION:Ulm, vh Tanzstudio im Weststadtbad, Raum 2, Moltkestr. 30, 89077 Ulm
END:VEVENT
BEGIN:VEVENT
DTSTAMP:20260422T201440
DTSTART;TZID=Europe/Berlin:20261112T190000
DTEND;TZID=Europe/Berlin:20261112T201500
UID:26H0400036-20261112T190000@VHULM
SUMMARY:Orientalischer Tanz &ndash; Ägyptischer Stil I Für Fortgeschrittene (26H0400036) 
LOCATION:Ulm, vh Tanzstudio im Weststadtbad, Raum 2, Moltkestr. 30, 89077 Ulm
END:VEVENT
BEGIN:VEVENT
DTSTAMP:20260422T201440
DTSTART;TZID=Europe/Berlin:20261119T190000
DTEND;TZID=Europe/Berlin:20261119T201500
UID:26H0400036-20261119T190000@VHULM
SUMMARY:Orientalischer Tanz &ndash; Ägyptischer Stil I Für Fortgeschrittene (26H0400036) 
LOCATION:Ulm, vh Tanzstudio im Weststadtbad, Raum 2, Moltkestr. 30, 89077 Ulm
END:VEVENT
BEGIN:VEVENT
DTSTAMP:20260422T201440
DTSTART;TZID=Europe/Berlin:20261126T190000
DTEND;TZID=Europe/Berlin:20261126T201500
UID:26H0400036-20261126T190000@VHULM
SUMMARY:Orientalischer Tanz &ndash; Ägyptischer Stil I Für Fortgeschrittene (26H0400036) 
LOCATION:Ulm, vh Tanzstudio im Weststadtbad, Raum 2, Moltkestr. 30, 89077 Ulm
END:VEVENT
BEGIN:VEVENT
DTSTAMP:20260422T201440
DTSTART;TZID=Europe/Berlin:20261203T190000
DTEND;TZID=Europe/Berlin:20261203T201500
UID:26H0400036-20261203T190000@VHULM
SUMMARY:Orientalischer Tanz &ndash; Ägyptischer Stil I Für Fortgeschrittene (26H0400036) 
LOCATION:Ulm, vh Tanzstudio im Weststadtbad, Raum 2, Moltkestr. 30, 89077 Ulm
END:VEVENT
BEGIN:VEVENT
DTSTAMP:20260422T201440
DTSTART;TZID=Europe/Berlin:20261210T190000
DTEND;TZID=Europe/Berlin:20261210T201500
UID:26H0400036-20261210T190000@VHULM
SUMMARY:Orientalischer Tanz &ndash; Ägyptischer Stil I Für Fortgeschrittene (26H0400036) 
LOCATION:Ulm, vh Tanzstudio im Weststadtbad, Raum 2, Moltkestr. 30, 89077 Ulm
END:VEVENT
BEGIN:VEVENT
DTSTAMP:20260422T201440
DTSTART;TZID=Europe/Berlin:20270114T190000
DTEND;TZID=Europe/Berlin:20270114T201500
UID:26H0400036-20270114T190000@VHULM
SUMMARY:Orientalischer Tanz &ndash; Ägyptischer Stil I Für Fortgeschrittene (26H0400036) 
LOCATION:Ulm, vh Tanzstudio im Weststadtbad, Raum 2, Moltkestr. 30, 89077 Ulm
END:VEVENT
BEGIN:VEVENT
DTSTAMP:20260422T201440
DTSTART;TZID=Europe/Berlin:20270121T190000
DTEND;TZID=Europe/Berlin:20270121T201500
UID:26H0400036-20270121T190000@VHULM
SUMMARY:Orientalischer Tanz &ndash; Ägyptischer Stil I Für Fortgeschrittene (26H0400036) 
LOCATION:Ulm, vh Tanzstudio im Weststadtbad, Raum 2, Moltkestr. 30, 89077 Ulm
END:VEVENT
BEGIN:VEVENT
DTSTAMP:20260422T201440
DTSTART;TZID=Europe/Berlin:20270128T190000
DTEND;TZID=Europe/Berlin:20270128T201500
UID:26H0400036-20270128T190000@VHULM
SUMMARY:Orientalischer Tanz &ndash; Ägyptischer Stil I Für Fortgeschrittene (26H0400036) 
LOCATION:Ulm, vh Tanzstudio im Weststadtbad, Raum 2, Moltkestr. 30, 89077 Ulm
END:VEVENT
BEGIN:VEVENT
DTSTAMP:20260422T201440
DTSTART;TZID=Europe/Berlin:20270204T190000
DTEND;TZID=Europe/Berlin:20270204T201500
UID:26H0400036-20270204T190000@VHULM
SUMMARY:Orientalischer Tanz &ndash; Ägyptischer Stil I Für Fortgeschrittene (26H0400036) 
LOCATION:Ulm, vh Tanzstudio im Weststadtbad, Raum 2, Moltkestr. 30, 89077 Ulm
END:VEVENT
BEGIN:VEVENT
DTSTAMP:20260422T201440
DTSTART;TZID=Europe/Berlin:20270218T190000
DTEND;TZID=Europe/Berlin:20270218T201500
UID:26H0400036-20270218T190000@VHULM
SUMMARY:Orientalischer Tanz &ndash; Ägyptischer Stil I Für Fortgeschrittene (26H0400036) 
LOCATION:Ulm, vh Tanzstudio im Weststadtbad, Raum 2, Moltkestr. 30, 89077 Ulm
END:VEVENT
BEGIN:VEVENT
DTSTAMP:20260422T201440
DTSTART;TZID=Europe/Berlin:20270225T190000
DTEND;TZID=Europe/Berlin:20270225T201500
UID:26H0400036-20270225T190000@VHULM
SUMMARY:Orientalischer Tanz &ndash; Ägyptischer Stil I Für Fortgeschrittene (26H0400036) 
LOCATION:Ulm, vh Tanzstudio im Weststadtbad, Raum 2, Moltkestr. 30, 89077 Ulm
END:VEVENT
END:VCALENDAR