BEGIN:VCALENDAR
VERSION:2.0
PRODID:https://www.kufer.de/kuferweb / DE
METHOD:PUBLISH
CALSCALE:GREGORIAN
X-WR-TIMEZONE:Europe/Berlin
BEGIN:VTIMEZONE
TZID:Europe/Berlin
X-LIC-LOCATION:Europe/Berlin
BEGIN:DAYLIGHT
TZOFFSETFROM:+0100
TZOFFSETTO:+0200
TZNAME:CEST
DTSTART:19700329T020000
RRULE:FREQ=YEARLY;INTERVAL=1;BYDAY=-1SU;BYMONTH=3
END:DAYLIGHT
BEGIN:STANDARD
TZOFFSETFROM:+0200
TZOFFSETTO:+0100
TZNAME:CET
DTSTART:19701025T030000
RRULE:FREQ=YEARLY;INTERVAL=1;BYDAY=-1SU;BYMONTH=10
END:STANDARD
END:VTIMEZONE
BEGIN:VEVENT
DTSTAMP:20260419T175137
DTSTART;TZID=Europe/Berlin:20260715T180000
DTEND;TZID=Europe/Berlin:20260715T203000
UID:26F1110332-20260715T180000@VHULM
SUMMARY:Deutsch B1 am Abend intensiv (26F1110332) 
LOCATION:Ulm, Dreigiebelhaus, D2, Kornhausplatz 2, 89073 Ulm
END:VEVENT
BEGIN:VEVENT
DTSTAMP:20260419T175137
DTSTART;TZID=Europe/Berlin:20260716T180000
DTEND;TZID=Europe/Berlin:20260716T203000
UID:26F1110332-20260716T180000@VHULM
SUMMARY:Deutsch B1 am Abend intensiv (26F1110332) 
LOCATION:Ulm, Dreigiebelhaus, D2, Kornhausplatz 2, 89073 Ulm
END:VEVENT
BEGIN:VEVENT
DTSTAMP:20260419T175137
DTSTART;TZID=Europe/Berlin:20260721T180000
DTEND;TZID=Europe/Berlin:20260721T203000
UID:26F1110332-20260721T180000@VHULM
SUMMARY:Deutsch B1 am Abend intensiv (26F1110332) 
LOCATION:Ulm, Dreigiebelhaus, D2, Kornhausplatz 2, 89073 Ulm
END:VEVENT
BEGIN:VEVENT
DTSTAMP:20260419T175137
DTSTART;TZID=Europe/Berlin:20260722T180000
DTEND;TZID=Europe/Berlin:20260722T203000
UID:26F1110332-20260722T180000@VHULM
SUMMARY:Deutsch B1 am Abend intensiv (26F1110332) 
LOCATION:Ulm, Dreigiebelhaus, D2, Kornhausplatz 2, 89073 Ulm
END:VEVENT
BEGIN:VEVENT
DTSTAMP:20260419T175137
DTSTART;TZID=Europe/Berlin:20260723T180000
DTEND;TZID=Europe/Berlin:20260723T203000
UID:26F1110332-20260723T180000@VHULM
SUMMARY:Deutsch B1 am Abend intensiv (26F1110332) 
LOCATION:Ulm, Dreigiebelhaus, D2, Kornhausplatz 2, 89073 Ulm
END:VEVENT
BEGIN:VEVENT
DTSTAMP:20260419T175137
DTSTART;TZID=Europe/Berlin:20260728T180000
DTEND;TZID=Europe/Berlin:20260728T203000
UID:26F1110332-20260728T180000@VHULM
SUMMARY:Deutsch B1 am Abend intensiv (26F1110332) 
LOCATION:Ulm, Dreigiebelhaus, D2, Kornhausplatz 2, 89073 Ulm
END:VEVENT
BEGIN:VEVENT
DTSTAMP:20260419T175137
DTSTART;TZID=Europe/Berlin:20260729T180000
DTEND;TZID=Europe/Berlin:20260729T203000
UID:26F1110332-20260729T180000@VHULM
SUMMARY:Deutsch B1 am Abend intensiv (26F1110332) 
LOCATION:Ulm, Dreigiebelhaus, D2, Kornhausplatz 2, 89073 Ulm
END:VEVENT
BEGIN:VEVENT
DTSTAMP:20260419T175137
DTSTART;TZID=Europe/Berlin:20260915T180000
DTEND;TZID=Europe/Berlin:20260915T203000
UID:26F1110332-20260915T180000@VHULM
SUMMARY:Deutsch B1 am Abend intensiv (26F1110332) 
LOCATION:Ulm, Dreigiebelhaus, D2, Kornhausplatz 2, 89073 Ulm
END:VEVENT
BEGIN:VEVENT
DTSTAMP:20260419T175137
DTSTART;TZID=Europe/Berlin:20260916T180000
DTEND;TZID=Europe/Berlin:20260916T203000
UID:26F1110332-20260916T180000@VHULM
SUMMARY:Deutsch B1 am Abend intensiv (26F1110332) 
LOCATION:Ulm, Dreigiebelhaus, D2, Kornhausplatz 2, 89073 Ulm
END:VEVENT
BEGIN:VEVENT
DTSTAMP:20260419T175137
DTSTART;TZID=Europe/Berlin:20260917T180000
DTEND;TZID=Europe/Berlin:20260917T203000
UID:26F1110332-20260917T180000@VHULM
SUMMARY:Deutsch B1 am Abend intensiv (26F1110332) 
LOCATION:Ulm, Dreigiebelhaus, D2, Kornhausplatz 2, 89073 Ulm
END:VEVENT
BEGIN:VEVENT
DTSTAMP:20260419T175137
DTSTART;TZID=Europe/Berlin:20260922T180000
DTEND;TZID=Europe/Berlin:20260922T203000
UID:26F1110332-20260922T180000@VHULM
SUMMARY:Deutsch B1 am Abend intensiv (26F1110332) 
LOCATION:Ulm, Dreigiebelhaus, D2, Kornhausplatz 2, 89073 Ulm
END:VEVENT
BEGIN:VEVENT
DTSTAMP:20260419T175137
DTSTART;TZID=Europe/Berlin:20260923T180000
DTEND;TZID=Europe/Berlin:20260923T203000
UID:26F1110332-20260923T180000@VHULM
SUMMARY:Deutsch B1 am Abend intensiv (26F1110332) 
LOCATION:Ulm, Dreigiebelhaus, D2, Kornhausplatz 2, 89073 Ulm
END:VEVENT
BEGIN:VEVENT
DTSTAMP:20260419T175137
DTSTART;TZID=Europe/Berlin:20260924T180000
DTEND;TZID=Europe/Berlin:20260924T203000
UID:26F1110332-20260924T180000@VHULM
SUMMARY:Deutsch B1 am Abend intensiv (26F1110332) 
LOCATION:Ulm, Dreigiebelhaus, D2, Kornhausplatz 2, 89073 Ulm
END:VEVENT
BEGIN:VEVENT
DTSTAMP:20260419T175137
DTSTART;TZID=Europe/Berlin:20260929T180000
DTEND;TZID=Europe/Berlin:20260929T203000
UID:26F1110332-20260929T180000@VHULM
SUMMARY:Deutsch B1 am Abend intensiv (26F1110332) 
LOCATION:Ulm, Dreigiebelhaus, D2, Kornhausplatz 2, 89073 Ulm
END:VEVENT
BEGIN:VEVENT
DTSTAMP:20260419T175137
DTSTART;TZID=Europe/Berlin:20260930T180000
DTEND;TZID=Europe/Berlin:20260930T203000
UID:26F1110332-20260930T180000@VHULM
SUMMARY:Deutsch B1 am Abend intensiv (26F1110332) 
LOCATION:Ulm, Dreigiebelhaus, D2, Kornhausplatz 2, 89073 Ulm
END:VEVENT
BEGIN:VEVENT
DTSTAMP:20260419T175137
DTSTART;TZID=Europe/Berlin:20261001T180000
DTEND;TZID=Europe/Berlin:20261001T203000
UID:26F1110332-20261001T180000@VHULM
SUMMARY:Deutsch B1 am Abend intensiv (26F1110332) 
LOCATION:Ulm, Dreigiebelhaus, D2, Kornhausplatz 2, 89073 Ulm
END:VEVENT
BEGIN:VEVENT
DTSTAMP:20260419T175137
DTSTART;TZID=Europe/Berlin:20261006T180000
DTEND;TZID=Europe/Berlin:20261006T203000
UID:26F1110332-20261006T180000@VHULM
SUMMARY:Deutsch B1 am Abend intensiv (26F1110332) 
LOCATION:Ulm, Dreigiebelhaus, D2, Kornhausplatz 2, 89073 Ulm
END:VEVENT
BEGIN:VEVENT
DTSTAMP:20260419T175137
DTSTART;TZID=Europe/Berlin:20261007T180000
DTEND;TZID=Europe/Berlin:20261007T203000
UID:26F1110332-20261007T180000@VHULM
SUMMARY:Deutsch B1 am Abend intensiv (26F1110332) 
LOCATION:Ulm, Dreigiebelhaus, D2, Kornhausplatz 2, 89073 Ulm
END:VEVENT
BEGIN:VEVENT
DTSTAMP:20260419T175137
DTSTART;TZID=Europe/Berlin:20261008T180000
DTEND;TZID=Europe/Berlin:20261008T203000
UID:26F1110332-20261008T180000@VHULM
SUMMARY:Deutsch B1 am Abend intensiv (26F1110332) 
LOCATION:Ulm, Dreigiebelhaus, D2, Kornhausplatz 2, 89073 Ulm
END:VEVENT
BEGIN:VEVENT
DTSTAMP:20260419T175137
DTSTART;TZID=Europe/Berlin:20261013T180000
DTEND;TZID=Europe/Berlin:20261013T203000
UID:26F1110332-20261013T180000@VHULM
SUMMARY:Deutsch B1 am Abend intensiv (26F1110332) 
LOCATION:Ulm, Dreigiebelhaus, D2, Kornhausplatz 2, 89073 Ulm
END:VEVENT
BEGIN:VEVENT
DTSTAMP:20260419T175137
DTSTART;TZID=Europe/Berlin:20261014T180000
DTEND;TZID=Europe/Berlin:20261014T203000
UID:26F1110332-20261014T180000@VHULM
SUMMARY:Deutsch B1 am Abend intensiv (26F1110332) 
LOCATION:Ulm, Dreigiebelhaus, D2, Kornhausplatz 2, 89073 Ulm
END:VEVENT
BEGIN:VEVENT
DTSTAMP:20260419T175137
DTSTART;TZID=Europe/Berlin:20261015T180000
DTEND;TZID=Europe/Berlin:20261015T203000
UID:26F1110332-20261015T180000@VHULM
SUMMARY:Deutsch B1 am Abend intensiv (26F1110332) 
LOCATION:Ulm, Dreigiebelhaus, D2, Kornhausplatz 2, 89073 Ulm
END:VEVENT
BEGIN:VEVENT
DTSTAMP:20260419T175137
DTSTART;TZID=Europe/Berlin:20261020T180000
DTEND;TZID=Europe/Berlin:20261020T203000
UID:26F1110332-20261020T180000@VHULM
SUMMARY:Deutsch B1 am Abend intensiv (26F1110332) 
LOCATION:Ulm, Dreigiebelhaus, D2, Kornhausplatz 2, 89073 Ulm
END:VEVENT
BEGIN:VEVENT
DTSTAMP:20260419T175137
DTSTART;TZID=Europe/Berlin:20261021T180000
DTEND;TZID=Europe/Berlin:20261021T203000
UID:26F1110332-20261021T180000@VHULM
SUMMARY:Deutsch B1 am Abend intensiv (26F1110332) 
LOCATION:Ulm, Dreigiebelhaus, D2, Kornhausplatz 2, 89073 Ulm
END:VEVENT
BEGIN:VEVENT
DTSTAMP:20260419T175137
DTSTART;TZID=Europe/Berlin:20261022T180000
DTEND;TZID=Europe/Berlin:20261022T203000
UID:26F1110332-20261022T180000@VHULM
SUMMARY:Deutsch B1 am Abend intensiv (26F1110332) 
LOCATION:Ulm, Dreigiebelhaus, D2, Kornhausplatz 2, 89073 Ulm
END:VEVENT
BEGIN:VEVENT
DTSTAMP:20260419T175137
DTSTART;TZID=Europe/Berlin:20261103T180000
DTEND;TZID=Europe/Berlin:20261103T203000
UID:26F1110332-20261103T180000@VHULM
SUMMARY:Deutsch B1 am Abend intensiv (26F1110332) 
LOCATION:Ulm, Dreigiebelhaus, D2, Kornhausplatz 2, 89073 Ulm
END:VEVENT
BEGIN:VEVENT
DTSTAMP:20260419T175137
DTSTART;TZID=Europe/Berlin:20261104T180000
DTEND;TZID=Europe/Berlin:20261104T203000
UID:26F1110332-20261104T180000@VHULM
SUMMARY:Deutsch B1 am Abend intensiv (26F1110332) 
LOCATION:Ulm, Dreigiebelhaus, D2, Kornhausplatz 2, 89073 Ulm
END:VEVENT
BEGIN:VEVENT
DTSTAMP:20260419T175137
DTSTART;TZID=Europe/Berlin:20261105T180000
DTEND;TZID=Europe/Berlin:20261105T203000
UID:26F1110332-20261105T180000@VHULM
SUMMARY:Deutsch B1 am Abend intensiv (26F1110332) 
LOCATION:Ulm, Dreigiebelhaus, D2, Kornhausplatz 2, 89073 Ulm
END:VEVENT
BEGIN:VEVENT
DTSTAMP:20260419T175137
DTSTART;TZID=Europe/Berlin:20261110T180000
DTEND;TZID=Europe/Berlin:20261110T203000
UID:26F1110332-20261110T180000@VHULM
SUMMARY:Deutsch B1 am Abend intensiv (26F1110332) 
LOCATION:Ulm, Dreigiebelhaus, D2, Kornhausplatz 2, 89073 Ulm
END:VEVENT
BEGIN:VEVENT
DTSTAMP:20260419T175137
DTSTART;TZID=Europe/Berlin:20261111T180000
DTEND;TZID=Europe/Berlin:20261111T203000
UID:26F1110332-20261111T180000@VHULM
SUMMARY:Deutsch B1 am Abend intensiv (26F1110332) 
LOCATION:Ulm, Dreigiebelhaus, D2, Kornhausplatz 2, 89073 Ulm
END:VEVENT
BEGIN:VEVENT
DTSTAMP:20260419T175137
DTSTART;TZID=Europe/Berlin:20261112T180000
DTEND;TZID=Europe/Berlin:20261112T203000
UID:26F1110332-20261112T180000@VHULM
SUMMARY:Deutsch B1 am Abend intensiv (26F1110332) 
LOCATION:Ulm, Dreigiebelhaus, D2, Kornhausplatz 2, 89073 Ulm
END:VEVENT
BEGIN:VEVENT
DTSTAMP:20260419T175137
DTSTART;TZID=Europe/Berlin:20261117T180000
DTEND;TZID=Europe/Berlin:20261117T203000
UID:26F1110332-20261117T180000@VHULM
SUMMARY:Deutsch B1 am Abend intensiv (26F1110332) 
LOCATION:Ulm, Dreigiebelhaus, D2, Kornhausplatz 2, 89073 Ulm
END:VEVENT
BEGIN:VEVENT
DTSTAMP:20260419T175137
DTSTART;TZID=Europe/Berlin:20261118T180000
DTEND;TZID=Europe/Berlin:20261118T211500
UID:26F1110332-20261118T180000@VHULM
SUMMARY:Deutsch B1 am Abend intensiv (26F1110332) 
LOCATION:Ulm, Dreigiebelhaus, D2, Kornhausplatz 2, 89073 Ulm
END:VEVENT
END:VCALENDAR