BEGIN:VCALENDAR
VERSION:2.0
PRODID:https://www.kufer.de/kuferweb / DE
METHOD:PUBLISH
CALSCALE:GREGORIAN
X-WR-TIMEZONE:Europe/Berlin
BEGIN:VTIMEZONE
TZID:Europe/Berlin
X-LIC-LOCATION:Europe/Berlin
BEGIN:DAYLIGHT
TZOFFSETFROM:+0100
TZOFFSETTO:+0200
TZNAME:CEST
DTSTART:19700329T020000
RRULE:FREQ=YEARLY;INTERVAL=1;BYDAY=-1SU;BYMONTH=3
END:DAYLIGHT
BEGIN:STANDARD
TZOFFSETFROM:+0200
TZOFFSETTO:+0100
TZNAME:CET
DTSTART:19701025T030000
RRULE:FREQ=YEARLY;INTERVAL=1;BYDAY=-1SU;BYMONTH=10
END:STANDARD
END:VTIMEZONE
BEGIN:VEVENT
DTSTAMP:20260419T175137
DTSTART;TZID=Europe/Berlin:20260302T180000
DTEND;TZID=Europe/Berlin:20260302T200000
UID:26F1110028-20260302T180000@VHULM
SUMMARY:Arte International (26F1110028) 
LOCATION:Ulm, EinsteinHaus, Seminarraum U1, Kornhausplatz 5, 89073 Ulm
END:VEVENT
BEGIN:VEVENT
DTSTAMP:20260419T175137
DTSTART;TZID=Europe/Berlin:20260309T180000
DTEND;TZID=Europe/Berlin:20260309T200000
UID:26F1110028-20260309T180000@VHULM
SUMMARY:Arte International (26F1110028) 
LOCATION:Ulm, EinsteinHaus, Seminarraum U1, Kornhausplatz 5, 89073 Ulm
END:VEVENT
BEGIN:VEVENT
DTSTAMP:20260419T175137
DTSTART;TZID=Europe/Berlin:20260316T183000
DTEND;TZID=Europe/Berlin:20260316T203000
UID:26F1110028-20260316T183000@VHULM
SUMMARY:Arte International (26F1110028) 
LOCATION:Ulm, EinsteinHaus, Seminarraum U1, Kornhausplatz 5, 89073 Ulm
END:VEVENT
BEGIN:VEVENT
DTSTAMP:20260419T175137
DTSTART;TZID=Europe/Berlin:20260323T183000
DTEND;TZID=Europe/Berlin:20260323T203000
UID:26F1110028-20260323T183000@VHULM
SUMMARY:Arte International (26F1110028) 
LOCATION:Ulm, EinsteinHaus, Seminarraum U1, Kornhausplatz 5, 89073 Ulm
END:VEVENT
BEGIN:VEVENT
DTSTAMP:20260419T175137
DTSTART;TZID=Europe/Berlin:20260413T183000
DTEND;TZID=Europe/Berlin:20260413T203000
UID:26F1110028-20260413T183000@VHULM
SUMMARY:Arte International (26F1110028) 
LOCATION:Ulm, EinsteinHaus, Seminarraum U1, Kornhausplatz 5, 89073 Ulm
END:VEVENT
BEGIN:VEVENT
DTSTAMP:20260419T175137
DTSTART;TZID=Europe/Berlin:20260420T183000
DTEND;TZID=Europe/Berlin:20260420T203000
UID:26F1110028-20260420T183000@VHULM
SUMMARY:Arte International (26F1110028) 
LOCATION:Ulm, EinsteinHaus, Seminarraum U1, Kornhausplatz 5, 89073 Ulm
END:VEVENT
BEGIN:VEVENT
DTSTAMP:20260419T175137
DTSTART;TZID=Europe/Berlin:20260427T183000
DTEND;TZID=Europe/Berlin:20260427T203000
UID:26F1110028-20260427T183000@VHULM
SUMMARY:Arte International (26F1110028) 
LOCATION:Ulm, EinsteinHaus, Seminarraum U1, Kornhausplatz 5, 89073 Ulm
END:VEVENT
BEGIN:VEVENT
DTSTAMP:20260419T175137
DTSTART;TZID=Europe/Berlin:20260504T183000
DTEND;TZID=Europe/Berlin:20260504T203000
UID:26F1110028-20260504T183000@VHULM
SUMMARY:Arte International (26F1110028) 
LOCATION:Ulm, EinsteinHaus, Seminarraum U1, Kornhausplatz 5, 89073 Ulm
END:VEVENT
BEGIN:VEVENT
DTSTAMP:20260419T175137
DTSTART;TZID=Europe/Berlin:20260511T183000
DTEND;TZID=Europe/Berlin:20260511T203000
UID:26F1110028-20260511T183000@VHULM
SUMMARY:Arte International (26F1110028) 
LOCATION:Ulm, EinsteinHaus, Seminarraum U1, Kornhausplatz 5, 89073 Ulm
END:VEVENT
BEGIN:VEVENT
DTSTAMP:20260419T175137
DTSTART;TZID=Europe/Berlin:20260518T183000
DTEND;TZID=Europe/Berlin:20260518T203000
UID:26F1110028-20260518T183000@VHULM
SUMMARY:Arte International (26F1110028) 
LOCATION:Ulm, EinsteinHaus, Seminarraum U1, Kornhausplatz 5, 89073 Ulm
END:VEVENT
BEGIN:VEVENT
DTSTAMP:20260419T175137
DTSTART;TZID=Europe/Berlin:20260608T183000
DTEND;TZID=Europe/Berlin:20260608T203000
UID:26F1110028-20260608T183000@VHULM
SUMMARY:Arte International (26F1110028) 
LOCATION:Ulm, EinsteinHaus, Seminarraum U1, Kornhausplatz 5, 89073 Ulm
END:VEVENT
BEGIN:VEVENT
DTSTAMP:20260419T175137
DTSTART;TZID=Europe/Berlin:20260615T183000
DTEND;TZID=Europe/Berlin:20260615T203000
UID:26F1110028-20260615T183000@VHULM
SUMMARY:Arte International (26F1110028) 
LOCATION:Ulm, EinsteinHaus, Seminarraum U1, Kornhausplatz 5, 89073 Ulm
END:VEVENT
BEGIN:VEVENT
DTSTAMP:20260419T175137
DTSTART;TZID=Europe/Berlin:20260622T183000
DTEND;TZID=Europe/Berlin:20260622T203000
UID:26F1110028-20260622T183000@VHULM
SUMMARY:Arte International (26F1110028) 
LOCATION:Ulm, EinsteinHaus, Seminarraum U1, Kornhausplatz 5, 89073 Ulm
END:VEVENT
BEGIN:VEVENT
DTSTAMP:20260419T175137
DTSTART;TZID=Europe/Berlin:20260629T183000
DTEND;TZID=Europe/Berlin:20260629T203000
UID:26F1110028-20260629T183000@VHULM
SUMMARY:Arte International (26F1110028) 
LOCATION:Ulm, EinsteinHaus, Seminarraum U1, Kornhausplatz 5, 89073 Ulm
END:VEVENT
BEGIN:VEVENT
DTSTAMP:20260419T175137
DTSTART;TZID=Europe/Berlin:20260706T183000
DTEND;TZID=Europe/Berlin:20260706T203000
UID:26F1110028-20260706T183000@VHULM
SUMMARY:Arte International (26F1110028) 
LOCATION:Ulm, EinsteinHaus, Seminarraum U1, Kornhausplatz 5, 89073 Ulm
END:VEVENT
BEGIN:VEVENT
DTSTAMP:20260419T175137
DTSTART;TZID=Europe/Berlin:20260713T183000
DTEND;TZID=Europe/Berlin:20260713T203000
UID:26F1110028-20260713T183000@VHULM
SUMMARY:Arte International (26F1110028) 
LOCATION:Ulm, EinsteinHaus, Seminarraum U1, Kornhausplatz 5, 89073 Ulm
END:VEVENT
END:VCALENDAR