BEGIN:VCALENDAR
VERSION:2.0
PRODID:https://www.kufer.de/kuferweb / DE
METHOD:PUBLISH
CALSCALE:GREGORIAN
X-WR-TIMEZONE:Europe/Berlin
BEGIN:VTIMEZONE
TZID:Europe/Berlin
X-LIC-LOCATION:Europe/Berlin
BEGIN:DAYLIGHT
TZOFFSETFROM:+0100
TZOFFSETTO:+0200
TZNAME:CEST
DTSTART:19700329T020000
RRULE:FREQ=YEARLY;INTERVAL=1;BYDAY=-1SU;BYMONTH=3
END:DAYLIGHT
BEGIN:STANDARD
TZOFFSETFROM:+0200
TZOFFSETTO:+0100
TZNAME:CET
DTSTART:19701025T030000
RRULE:FREQ=YEARLY;INTERVAL=1;BYDAY=-1SU;BYMONTH=10
END:STANDARD
END:VTIMEZONE
BEGIN:VEVENT
DTSTAMP:20260419T233213
DTSTART;TZID=Europe/Berlin:20260613T100000
DTEND;TZID=Europe/Berlin:20260613T160000
UID:26F0950822-20260613T100000@VHULM
SUMMARY:Pflanzenfarben selbst herstellen & Naturmalerei Farbherstellung für Anfänger und Fortgeschrittene (26F0950822) 
LOCATION:Ulm, Kreativhafen, Vordere Werkstatt, Hafenbad 18/1, 89073 Ulm
END:VEVENT
BEGIN:VEVENT
DTSTAMP:20260419T233213
DTSTART;TZID=Europe/Berlin:20260614T100000
DTEND;TZID=Europe/Berlin:20260614T130000
UID:26F0950822-20260614T100000@VHULM
SUMMARY:Pflanzenfarben selbst herstellen & Naturmalerei Farbherstellung für Anfänger und Fortgeschrittene (26F0950822) 
LOCATION:Ulm, Kreativhafen, Vordere Werkstatt, Hafenbad 18/1, 89073 Ulm
END:VEVENT
END:VCALENDAR